BEGIN:VCALENDAR
VERSION:2.0
PRODID:-//MCI - ECPv4.6.4//NONSGML v1.0//EN
CALSCALE:GREGORIAN
METHOD:PUBLISH
X-WR-CALNAME:MCI
X-ORIGINAL-URL:https://sipoca393.research.gov.ro
X-WR-CALDESC:Events for MCI
BEGIN:VEVENT
DTSTART;VALUE=DATE:20201021
DTEND;VALUE=DATE:20201024
DTSTAMP:20210915T033350
CREATED:20201016T121801Z
LAST-MODIFIED:20210105T065423Z
UID:2094-1603238400-1603497599@sipoca393.research.gov.ro
SUMMARY:Workshop 7_„Elaborarea unei proceduri simplificate pentru reducerea poverii administrative asupra mediului de afaceri\, respectiv a operatorilor economici care desfasoara activitati de CDI”
DESCRIPTION:Subactivitatea A 3.3. \nAgenda \n  \n
URL:https://sipoca393.research.gov.ro/event/workshop-7_elaborarea-unei-proceduri-simplificate-pentru-reducerea-poverii-administrative-asupra-mediului-de-afaceri-respectiv-a-operatorilor-economici-care-desfasoara-activitati-de-cdi/
LOCATION:Strada Poiana lui Neagoe 10\, Poiana Brasov\, Brasov\, 500001\, România
ATTACH;FMTTYPE=image/jpeg:https://sipoca393.research.gov.ro/wp-content/uploads/2019/12/analyzing-business-activity-ML8EBPR-min.jpg
ORGANIZER;CN="MEC":MAILTO:sipoca393@gmail.com
END:VEVENT
END:VCALENDAR